BEGIN:VCALENDAR
VERSION:2.0
PRODID:-//PMI Vietnam Chapter - ECPv6.15.20//NONSGML v1.0//EN
CALSCALE:GREGORIAN
METHOD:PUBLISH
X-WR-CALNAME:PMI Vietnam Chapter
X-ORIGINAL-URL:https://pmivietnamchapter.com
X-WR-CALDESC:Sự kiện cho PMI Vietnam Chapter
REFRESH-INTERVAL;VALUE=DURATION:PT1H
X-Robots-Tag:noindex
X-PUBLISHED-TTL:PT1H
BEGIN:VTIMEZONE
TZID:Asia/Krasnoyarsk
BEGIN:STANDARD
TZOFFSETFROM:+0700
TZOFFSETTO:+0700
TZNAME:+07
DTSTART:20230101T000000
END:STANDARD
END:VTIMEZONE
BEGIN:VEVENT
DTSTART;TZID=Asia/Krasnoyarsk:20240921T090000
DTEND;TZID=Asia/Krasnoyarsk:20240921T120000
DTSTAMP:20260421T195055
CREATED:20240917T033032Z
LAST-MODIFIED:20240920T091419Z
UID:11115-1726909200-1726920000@pmivietnamchapter.com
SUMMARY:[Workshop] Thực chiến quản lý dự án từ A-Z cùng PMA
DESCRIPTION:ĐẾN HẸN LẠI LÊN! PMA HCM MỜI BẠN THAM GIA WORKSHOP THÁNG 9 VỚI CHỦ ĐỀ “Thực chiến Quản lý dự án từ A-Z cùng PMA\n\n\nBạn đang “rối ren” với những sự thay đổi trong Quản lý dự án tại Việt Nam và trên thế giới? Bạn chưa tìm được cách kết nối những kiến thức tự tìm tòi và áp dụng vào thực tế? Đừng bỏ lỡ cơ hội tham gia Workshop đặc biệt của chúng tôi!\n\n\nThời gian: 9h sáng Thứ Bảy\, ngày 21/09/2024.\nĐịa điểm: Itune Coffee – 573/10 đường Sư Vạn Hạnh\, phường 12\, quận 10\, Hồ Chí Minh\n\n\nAi nên tham gia buổi workshop?\n Các chuyên gia quản lý dự án muốn nâng cao kỹ năng và kiến thức của mình.\n Các tổ chức\, doanh nghiệp\, start up\, agency\, team developer muốn vận hành dự án hiệu quả và hạn chế rủi ro.\n Những người đang chuẩn bị cho kỳ thi PMP.\n Bất kỳ ai quan tâm đến việc tìm hiểu thêm về quản lý dự án và chứng chỉ PMP.\n\n\nBuổi Workshop sẽ được dẫn dắt bởi 2 chuyên gia PMP hàng đầu:\n Anh Phùng Thanh Cường: Giám đốc điều hành PMA Vietnam\, PMP-Trainer\, PMI-ACP Trainer\, B2B Trainer\, 16+ năm kinh nghiệm Quản lý.\n Anh Mai Xuân Việt: Project Director tại Phúc Khang Corporation.\n 1 khách mời cực đặc biệt sẽ được bật mí trong buổi Workshop.\n\n\nTới với buổi workshop\, bạn sẽ được:\n Tìm hiểu về chứng chỉ PMP và lợi ích\, sự đột phá của PMP đối với sự nghiệp của bạn.\n Phần chia sẻ về chuyên môn quản lý dự án giúp bạn gỡ rối các khúc mắc trong thực tế làm việc.\n Chia sẻ kinh nghiệm thực tế từ các Giảng viên PMP và học viên đã đạt được chứng chỉ PMP.\n Thảo luận bàn tròn Q&A: Đặt câu hỏi và nhận câu trả lời trực tiếp từ các Giảng viên\, chuyên gia PMP và các cựu học viên PMA đã đỗ chứng chỉ PMP.\n\n\nĐĂNG KÝ THAM GIA WORKSHOP NGAY TẠI: https://short.com.vn/GtY0
URL:https://pmivietnamchapter.com/event/workshop-thuc-chien-quan-ly-du-an-tu-a-z-cung-pma/
LOCATION:357 Lê Hồng Phong\, 357 Lê Hồng Phong\, P.2\, Q.10\, Hồ Chí Minh\, 70000\, Viet Nam
CATEGORIES:Offline Workshop
ATTACH;FMTTYPE=image/png:https://pmivietnamchapter.com/wp-content/uploads/2024/09/social-WS-2109-2.png
END:VEVENT
END:VCALENDAR