BEGIN:VCALENDAR
VERSION:2.0
PRODID:-//PMI Vietnam Chapter - ECPv6.15.20//NONSGML v1.0//EN
CALSCALE:GREGORIAN
METHOD:PUBLISH
X-WR-CALNAME:PMI Vietnam Chapter
X-ORIGINAL-URL:https://pmivietnamchapter.com
X-WR-CALDESC:Sự kiện cho PMI Vietnam Chapter
REFRESH-INTERVAL;VALUE=DURATION:PT1H
X-Robots-Tag:noindex
X-PUBLISHED-TTL:PT1H
BEGIN:VTIMEZONE
TZID:Asia/Krasnoyarsk
BEGIN:STANDARD
TZOFFSETFROM:+0700
TZOFFSETTO:+0700
TZNAME:+07
DTSTART:20240101T000000
END:STANDARD
END:VTIMEZONE
BEGIN:VEVENT
DTSTART;TZID=Asia/Krasnoyarsk:20250423T200000
DTEND;TZID=Asia/Krasnoyarsk:20250423T210000
DTSTAMP:20260421T171947
CREATED:20250421T141225Z
LAST-MODIFIED:20250422T054006Z
UID:11912-1745438400-1745442000@pmivietnamchapter.com
SUMMARY:🚀 PMP JOURNEY - SESSION 6: PROJECT COMMUNICATIONS MANAGEMENT - THE KEY TO STAKEHOLDER ALIGNMENT 🌟
DESCRIPTION:🚀 PMP JOURNEY – SESSION 6: PROJECT COMMUNICATIONS MANAGEMENT – THE KEY TO STAKEHOLDER ALIGNMENT 🌟\n🚀 Master strategic communication for project success with PMI Education Team!\nJoin our Session 6 as we decode “Project Communications Management” – the critical bridge between your team and stakeholders. \n📅 Date: Wednesday\, April 23\, 2025\n⏰ Time: 8:00 PM – 9:00 PM (GMT+7)\n🔗 Join via Google Meet: https://meet.google.com/nxj-vpup-kxq\n🌏 Language: Vietnamese (slides in English) \n🎯 Key Takeaways:\n✅ 80/20 rule of project communication: What to share\, when\, and with whom\n✅ Tools to create impactful communication matrices (RACI meets Agile)\n✅ Crisis communication strategies for high-stakes projects\n✅ Cultural intelligence in global team communications\n✅ Earn 1 PDU (0.5 Power Skills & 0.5 Ways of Working) \n📢 Reserve your spot – Turn communication into your competitive advantage! \n#PMI #PMIVietnam #CommManagement #StakeholderEngagement #PMP \nTiếng Việt Version\n🚀 HÀNH TRÌNH PMP – PHẦN 6: QUẢN LÝ TRUYỀN THÔNG DỰ ÁN – CHÌA KHÓA ĐỒNG BỘ CÁC BÊN LIÊN QUAN 🌟\n🚀 Làm chủ giao tiếp chiến lược để dẫn dắt dự án thành công cùng PMI! \nTham gia Phần 6 khi chúng ta phân tích “Quản lý Truyền thông Dự án” – yếu tố then chốt kết nối đội nhóm và stakeholders. \n📅 Ngày: Thứ Tư\, 23/04/2025\n⏰ Giờ: 20:00 – 21:00 (GMT+7)\n🔗 Tham gia qua Google Meet: https://meet.google.com/nxj-vpup-kxq \n🎯 Giá trị nổi bật:\n✅ Nguyên tắc 80/20 trong truyền thông dự án\n✅ Xây dựng ma trận truyền thông thông minh (kết hợp RACI & Agile)\n✅ Xử lý khủng hoảng truyền thông cho dự án quan trọng\n✅ Giao tiếp đa văn hóa trong team toàn cầu\n✅ Nhận 1 PDU (0.5 Kỹ năng Mềm & 0.5 Phương pháp Làm việc) \n📢 Đăng ký ngay – Biến truyền thông thành lợi thế cạnh tranh! \n#PMI #PMIVietnam #QuảnLýTruyềnThông #QuảnLýStakeholder #PMP \n 
URL:https://pmivietnamchapter.com/event/%f0%9f%9a%80-pmp-journey-session-6-project-communications-management-the-key-to-stakeholder-alignment-%f0%9f%8c%9f/
LOCATION:https://meet.google.com/nxj-vpup-kxq
END:VEVENT
END:VCALENDAR