BEGIN:VCALENDAR
VERSION:2.0
PRODID:-//PMI Vietnam Chapter - ECPv6.15.20//NONSGML v1.0//EN
CALSCALE:GREGORIAN
METHOD:PUBLISH
X-WR-CALNAME:PMI Vietnam Chapter
X-ORIGINAL-URL:https://pmivietnamchapter.com
X-WR-CALDESC:Sự kiện cho PMI Vietnam Chapter
REFRESH-INTERVAL;VALUE=DURATION:PT1H
X-Robots-Tag:noindex
X-PUBLISHED-TTL:PT1H
BEGIN:VTIMEZONE
TZID:Asia/Krasnoyarsk
BEGIN:STANDARD
TZOFFSETFROM:+0700
TZOFFSETTO:+0700
TZNAME:+07
DTSTART:20240101T000000
END:STANDARD
END:VTIMEZONE
BEGIN:VEVENT
DTSTART;TZID=Asia/Krasnoyarsk:20250507T200000
DTEND;TZID=Asia/Krasnoyarsk:20250507T210000
DTSTAMP:20260421T155417
CREATED:20250505T152512Z
LAST-MODIFIED:20250505T152544Z
UID:11920-1746648000-1746651600@pmivietnamchapter.com
SUMMARY:🚀 PMP JOURNEY - SESSION 7: PROJECT SCHEDULE MANAGEMENT FROM PLANNING TO EXECUTION 🌟
DESCRIPTION:English Version\n\n\n🚀 PMP JOURNEY – SESSION 7: PROJECT SCHEDULE MANAGEMENT FROM PLANNING TO EXECUTION 🌟\n\n\n🚀 Master the science of project timelines with PMI Education Team!\n\n\n \n\n\nJoin our Session 7 as we explore “Project Schedule Management” – the backbone of delivering projects on time.\n\n\n \n\n\n📅 Date: Wednesday\, May 7\, 2025\n\n\n⏰ Time: 8:00 PM – 9:00 PM (GMT+7)\n\n\n🔗 Join via Google Meet: https://meet.google.com/nxj-vpup-kxq\n\n\n🌏 Language: Vietnamese (slides in English)\n\n\n \n\n\n🎯 Key Takeaways:\n\n\n✅ 3D Approach to Scheduling: Define\, Develop\, Deliver\n\n\n✅ Advanced techniques: Critical Path vs. Agile Sprint Planning\n\n\n✅ Tools to manage schedule variances in complex projects\n\n\n✅ Case study: How Tesla accelerates project timelines\n\n\n✅ Earn 1 PDU (1.0 Ways of Working)\n\n\n \n\n\n📢 Secure your spot – Learn to control time before it controls your project!\n\n\n \n\n\n#PMI #PMIVietnam #ScheduleManagement #TimeManagement #PMP\n\n\n \n\n\nTiếng Việt Version\n\n\n🚀 HÀNH TRÌNH PMP – PHẦN 7: QUẢN LÝ TIẾN ĐỘ DỰ ÁN – TỪ LẬP KẾ HOẠCH ĐẾN TRIỂN KHAI 🌟\n\n\n🚀 Làm chủ nghệ thuật quản lý thời gian dự án cùng PMI!\n\n\n \n\n\nTham gia Phần 7 khi chúng ta khám phá “Quản lý Tiến độ Dự án” – yếu tố sống còn để giao hàng đúng hạn.\n\n\n \n\n\n📅 Ngày: Thứ Tư\, 07/05/2025\n\n\n⏰ Giờ: 20:00 – 21:00 (GMT+7)\n\n\n🔗 Tham gia qua Google Meet: https://meet.google.com/nxj-vpup-kxq\n\n\n \n\n\n🎯 Giá trị nổi bật:\n\n\n✅ Phương pháp 3D: Định nghĩa – Phát triển – Giao hàng\n\n\n✅ Kỹ thuật nâng cao: Lộ trình quan trọng vs. Kế hoạch Sprint Agile\n\n\n✅ Công cụ xử lý sai lệch tiến độ trong dự án phức tạp\n\n\n✅ Case study: Cách Tesla rút ngắn thời gian dự án\n\n\n✅ Nhận 1 PDU (1.0 Phương pháp Làm việc)\n\n\n \n\n\n📢 Đăng ký ngay – Kiểm soát thời gian trước khi nó kiểm soát bạn!\n\n\n \n\n\n#PMI #PMIVietnam #QuảnLýTiếnĐộ #QuảnLýThờiGian #PMP
URL:https://pmivietnamchapter.com/event/%f0%9f%9a%80-pmp-journey-session-7-project-schedule-management-from-planning-to-execution-%f0%9f%8c%9f/
LOCATION:https://meet.google.com/nxj-vpup-kxq
END:VEVENT
END:VCALENDAR