BEGIN:VCALENDAR
VERSION:2.0
PRODID:-//PMI Vietnam Chapter - ECPv6.15.20//NONSGML v1.0//EN
CALSCALE:GREGORIAN
METHOD:PUBLISH
X-WR-CALNAME:PMI Vietnam Chapter
X-ORIGINAL-URL:https://pmivietnamchapter.com
X-WR-CALDESC:Sự kiện cho PMI Vietnam Chapter
REFRESH-INTERVAL;VALUE=DURATION:PT1H
X-Robots-Tag:noindex
X-PUBLISHED-TTL:PT1H
BEGIN:VTIMEZONE
TZID:Asia/Krasnoyarsk
BEGIN:STANDARD
TZOFFSETFROM:+0700
TZOFFSETTO:+0700
TZNAME:+07
DTSTART:20240101T000000
END:STANDARD
END:VTIMEZONE
BEGIN:VEVENT
DTSTART;TZID=Asia/Krasnoyarsk:20250514T200000
DTEND;TZID=Asia/Krasnoyarsk:20250514T210000
DTSTAMP:20260421T151810
CREATED:20250512T122442Z
LAST-MODIFIED:20250512T122442Z
UID:11966-1747252800-1747256400@pmivietnamchapter.com
SUMMARY:🚀 PMP JOURNEY - SESSION 8: MANAGING PROJECT COSTS - A SIMPLE YET POWERFUL PMP GUIDE 🌟
DESCRIPTION:English Version\n🚀 PMP JOURNEY – SESSION 8: MANAGING PROJECT COSTS – A SIMPLE YET POWERFUL PMP GUIDE 🌟\n🚀 Turn cost management into your competitive edge with PMI Education Team! \nJoin our Session 8 to master “Managing Project Costs” using PMI’s proven frameworks. \n📅 Date: Wednesday\, May 14\, 2025\n⏰ Time: 8:00 PM – 9:00 PM (GMT+7)\n🔗 Join via Google Meet: https://meet.google.com/rsz-xtot-fgs\n🌏 Language: Vietnamese (slides in English) \n🎯 Key Takeaways:\n✅ Decode the 4-step PMP cost management cycle\n✅ Practical Earned Value Management (EVM) techniques\n✅ Cost forecasting methods that prevent budget overruns\n✅ Earn 1 PDU (1.0 Technical) \n📢 Reserve your spot – Transform numbers into strategic insights! \n#PMI #PMIVietnam #CostManagement #PMP #EVM \nTiếng Việt Version\n🚀 HÀNH TRÌNH PMP – PHẦN 8: QUẢN LÝ CHI PHÍ DỰ ÁN – CẨM NANG PMP ĐƠN GIẢN MÀ HIỆU QUẢ 🌟\n🚀 Biến quản lý chi phí thành lợi thế cạnh tranh cùng PMI! \nTham gia Phần 8 để làm chủ “Quản lý Chi phí Dự án” theo chuẩn PMI. \n📅 Ngày: Thứ Tư\, 14/05/2025\n⏰ Giờ: 20:00 – 21:00 (GMT+7)\n🔗 Tham gia qua Google Meet: https://meet.google.com/rsz-xtot-fgs \n🎯 Giá trị nổi bật:\n✅ Chu trình 4 bước quản lý chi phí theo PMP\n✅ Kỹ thuật Quản lý Giá trị Thu được (EVM) thực tiễn\n✅ Phương pháp dự báo chi phí tránh vượt ngân sách\n✅ Nhận 1 PDU (1.0 Kỹ thuật) \n📢 Đăng ký ngay – Biến con số thành chiến lược! \n#PMI #PMIVietnam #QuảnLýChiPhí #PMP #EVM
URL:https://pmivietnamchapter.com/event/%f0%9f%9a%80-pmp-journey-session-8-managing-project-costs-a-simple-yet-powerful-pmp-guide-%f0%9f%8c%9f/
LOCATION:https://meet.google.com/rsz-xtot-fgs
END:VEVENT
END:VCALENDAR