BEGIN:VCALENDAR
VERSION:2.0
PRODID:-//PMI Vietnam Chapter - ECPv6.15.20//NONSGML v1.0//EN
CALSCALE:GREGORIAN
METHOD:PUBLISH
X-WR-CALNAME:PMI Vietnam Chapter
X-ORIGINAL-URL:https://pmivietnamchapter.com
X-WR-CALDESC:Sự kiện cho PMI Vietnam Chapter
REFRESH-INTERVAL;VALUE=DURATION:PT1H
X-Robots-Tag:noindex
X-PUBLISHED-TTL:PT1H
BEGIN:VTIMEZONE
TZID:Asia/Krasnoyarsk
BEGIN:STANDARD
TZOFFSETFROM:+0700
TZOFFSETTO:+0700
TZNAME:+07
DTSTART:20240101T000000
END:STANDARD
END:VTIMEZONE
BEGIN:VEVENT
DTSTART;TZID=Asia/Krasnoyarsk:20250521T200000
DTEND;TZID=Asia/Krasnoyarsk:20250521T210000
DTSTAMP:20260421T155542
CREATED:20250518T104113Z
LAST-MODIFIED:20250518T104113Z
UID:11971-1747857600-1747861200@pmivietnamchapter.com
SUMMARY:🚀 PMP JOURNEY - SESSION 9: PROJECT PROCUREMENT MANAGEMENT - STRATEGIC ALIGNMENT FROM WATERFALL TO AGILE 🌟
DESCRIPTION:English Version\n🚀 PMP JOURNEY – SESSION 9: PROJECT PROCUREMENT MANAGEMENT – STRATEGIC ALIGNMENT FROM WATERFALL TO AGILE 🌟\n🚀 Master modern procurement strategies with PMI Education Team! \nFeatured Speaker:\n🔹 Clara Ho Thi Bich Tram | Project Manager at ACFC\n🔹 *MBA in Finance | 8+ years of PM experience across Retail\, Real Estate\, HR\, and Banking | 2 years as a PMP instructor* \nJoin Session 9 to explore “Project Procurement Management” and bridge traditional and Agile approaches for vendor success. \n📅 Date: Wednesday\, May 21\, 2025\n⏰ Time: 8:00 PM – 9:00 PM (GMT+7)\n🔗 Join via Google Meet: https://meet.google.com/rsz-xtot-fgs\n🌏 Language: Vietnamese (slides in English) \n🎯 Key Takeaways:\n✅ Contrast Waterfall vs. Agile procurement methodologies\n✅ Design flexible contracts for evolving project needs\n✅ Align vendor management with hybrid project frameworks\n✅ Mitigate procurement risks in dynamic environments\n✅ Earn 1 PDU \n📢 Secure your spot – Turn procurement into a strategic advantage! \n#PMI #PMIVietnam #ProcurementManagement #AgileProcurement #PMP \nTiếng Việt Version\n🚀 HÀNH TRÌNH PMP – PHẦN 9: QUẢN LÝ MUA SẮM DỰ ÁN – KẾT NỐI CHIẾN LƯỢC TỪ WATERFALL ĐẾN AGILE 🌟\n🚀 Làm chủ chiến lược mua sắm hiện đại cùng PMI! \nDiễn giả:\n🔹 Hồ Thị Bích Trâm (Clara) | Quản lý Dự án tại Công ty ACFC\n🔹 *Thạc sĩ Tài chính | 8+ năm kinh nghiệm PM đa ngành: Bán lẻ\, Bất động sản\, Nhân sự\, Ngân hàng | 2 năm giảng dạy PMP* \nTham gia Phần 9 để khám phá “Quản lý Mua sắm Dự án” và kết nối phương pháp truyền thống với Agile. \n📅 Ngày: Thứ Tư\, 21/05/2025\n⏰ Giờ: 20:00 – 21:00 (GMT+7)\n🔗 Tham gia qua Google Meet: https://meet.google.com/rsz-xtot-fgs \n🎯 Giá trị nổi bật:\n✅ So sánh phương pháp Waterfall và Agile trong mua sắm\n✅ Thiết kế hợp đồng linh hoạt cho yêu cầu dự án thay đổi\n✅ Đồng bộ quản lý nhà cung cấp với mô hình hybrid\n✅ Giảm thiểu rủi ro mua sắm trong môi trường biến động\n✅ Nhận 1 PDU \n📢 Đăng ký ngay – Biến mua sắm thành lợi thế chiến lược! \n#PMI #PMIVietnam #QuảnLýMuaSắm #Agile #PMP
URL:https://pmivietnamchapter.com/event/%f0%9f%9a%80-pmp-journey-session-9-project-procurement-management-strategic-alignment-from-waterfall-to-agile-%f0%9f%8c%9f/
LOCATION:https://meet.google.com/rsz-xtot-fgs
ATTACH;FMTTYPE=image/jpeg:https://pmivietnamchapter.com/wp-content/uploads/2025/05/Tuan-le.jpg
END:VEVENT
END:VCALENDAR