BEGIN:VCALENDAR
VERSION:2.0
PRODID:-//PMI Vietnam Chapter - ECPv6.15.20//NONSGML v1.0//EN
CALSCALE:GREGORIAN
METHOD:PUBLISH
X-WR-CALNAME:PMI Vietnam Chapter
X-ORIGINAL-URL:https://pmivietnamchapter.com
X-WR-CALDESC:Sự kiện cho PMI Vietnam Chapter
REFRESH-INTERVAL;VALUE=DURATION:PT1H
X-Robots-Tag:noindex
X-PUBLISHED-TTL:PT1H
BEGIN:VTIMEZONE
TZID:Asia/Krasnoyarsk
BEGIN:STANDARD
TZOFFSETFROM:+0700
TZOFFSETTO:+0700
TZNAME:+07
DTSTART:20250101T000000
END:STANDARD
END:VTIMEZONE
BEGIN:VEVENT
DTSTART;TZID=Asia/Krasnoyarsk:20260411T200000
DTEND;TZID=Asia/Krasnoyarsk:20260411T210000
DTSTAMP:20260422T171042
CREATED:20260410T043228Z
LAST-MODIFIED:20260410T052549Z
UID:12691-1775937600-1775941200@pmivietnamchapter.com
SUMMARY:[Podcast 3] PMI-CP – Elevating Construction Project Management 🚧
DESCRIPTION:🎙️ [Podcast Số 3] PMI-CP – Nâng Tầm Quản lý dự án xây dựng 🚧 \n \nSau những chia sẻ đầy giá trị từ các tập trước\, chúng ta tiếp tục với một chủ đề rất “hot” trong lĩnh vực xây dựng: \n👉 PMI Construction Professional (PMI-CP) – chuẩn năng lực mới cho các nhà quản lý dự án xây dựng \n💡 Nhưng câu hỏi là:👉 Bạn đã sẵn sàng nâng cấp tư duy và năng lực để đáp ứng các dự án xây dựng ngày càng phức tạp? \nTrong tập podcast này\, chúng ta sẽ cùng khám phá: \n🔍 PMI-CP là gì và vì sao ngày càng quan trọng trong ngành xây dựng📊 Những năng lực cốt lõi của một Construction Project Manager hiện đại⚠️ Các thách thức phổ biến trong dự án xây dựng và cách vượt qua🚀 Lộ trình phát triển để nâng tầm sự nghiệp với PMI-CP \n💡 Không lý thuyết suông – tập trung vào insight thực tế & ứng dụng trong dự án \n📖 Tìm hiểu thêm về chuỗi podcast:👉 https://pmivietnamchapter.com/common/weekly-podcast-2026-where-project-management-insights-come-together/ \n☕ Chuẩn bị một tách cà phê và cùng tham gia: lắng nghe – thảo luận – chia sẻ kinh nghiệm thực chiến \n🎧 Host: Trương Quách – PMI Vietnam Chapter\, Professional Development🎤 Speaker: Lucas Dang – PMI-CP Ambassador\, PMI Vietnam Chapter \n🗓️ Thời gian: Thứ 7\, 11/04/2026 | 20:00 – 21:00 (GMT+7)💻 Hình thức: Online (link sẽ được gửi sau khi đăng ký) \n👉 Đăng ký tham gia:https://app.smartsheet.com/b/form/019d75455d527baab4a1b9a0d1c0a9dc \n✨ Hẹn gặp bạn tại tập podcast này! \n#PMIVietnamChapter #PMICP #Construction #QuanLyDuAn #Podcast \n\n🎙️ [Podcast 3] PMI-CP – Elevating Construction Project Management 🚧 \nFollowing the success of previous episodes\, we’re back with a hot topic in the construction industry: \n👉 PMI Construction Professional (PMI-CP) – a new standard for construction project managers \n💡 But the key question is:👉 Are you ready to elevate your capabilities for increasingly complex construction projects? \nIn this episode\, we will explore: \n🔍 What PMI-CP is and why it matters📊 Core competencies of modern Construction Project Managers⚠️ Common challenges in construction projects and how to overcome them🚀 Career development pathways with PMI-CP \n💡 No theory overload – only practical insights for real-world application \n📖 Learn more about the podcast series:👉 https://pmivietnamchapter.com/common/weekly-podcast-2026-where-project-management-insights-come-together/ \n☕ Grab your coffee and join us to listen\, discuss\, and share experiences \n🎧 Host: Truong Quach – PMI Vietnam Chapter\, Professional Development🎤 Speaker: Lucas Dang – PMI-CP Ambassador\, PMI Vietnam Chapter \n🗓️ Time: Saturday\, April 11\, 2026 | 20:00 – 21:00 (GMT+7)💻 Format: Online (link will be shared after registration) \n👉 Register here:https://app.smartsheet.com/b/form/019d75455d527baab4a1b9a0d1c0a9dc
URL:https://pmivietnamchapter.com/event/podcast-3-pmi-cp-elevating-construction-project-management-%f0%9f%9a%a7/
END:VEVENT
END:VCALENDAR