BEGIN:VCALENDAR
VERSION:2.0
PRODID:-//PMI Vietnam Chapter - ECPv6.15.20//NONSGML v1.0//EN
CALSCALE:GREGORIAN
METHOD:PUBLISH
X-WR-CALNAME:PMI Vietnam Chapter
X-ORIGINAL-URL:https://pmivietnamchapter.com
X-WR-CALDESC:Sự kiện cho PMI Vietnam Chapter
REFRESH-INTERVAL;VALUE=DURATION:PT1H
X-Robots-Tag:noindex
X-PUBLISHED-TTL:PT1H
BEGIN:VTIMEZONE
TZID:Asia/Krasnoyarsk
BEGIN:STANDARD
TZOFFSETFROM:+0700
TZOFFSETTO:+0700
TZNAME:+07
DTSTART:20200101T000000
END:STANDARD
END:VTIMEZONE
BEGIN:VEVENT
DTSTART;TZID=Asia/Krasnoyarsk:20230420T083000
DTEND;TZID=Asia/Krasnoyarsk:20230420T170000
DTSTAMP:20260421T124023
CREATED:20231127T143539Z
LAST-MODIFIED:20231127T143539Z
UID:10229-1681979400-1682010000@pmivietnamchapter.com
SUMMARY:Hội thảo giới thiệu Chỉ số Khả năng Chống chịu của Tòa nhà – Introduction to Building Resilience Index Workshop
DESCRIPTION:[English caption below] \nHội thảo do Tổ chức Tài chính quốc tế (IFC) kết hợp PMI Vietnam Chapter và các đối tác tổ chức. \nNội dung sự kiện: \nGiới thiệu Chỉ số Khả năng Chống chịu của Tòa nhà (Building Resilience Index – BRI)\, một sáng kiến mới giúp tăng cường khả năng phục hồi khí hậu cho công trình xây dựng. \nBRI là công cụ online (https://www.resilienceindex.org/) được tích hợp hệ thống bản đồ cảnh báo nguy cơ và một khung đánh giá khả năng chống chịu dành cho công trình xây dựng; được thiết kế để tạo điều kiện truy cập vào thông tin cảnh báo rủi ro khí hậu cho địa điểm cụ thể\, cung cấp các biện pháp phục hồi để giảm thiểu rủi ro áp dụng\, đồng thời giúp đánh giá khả năng phục hồi của tòa nhà. BRI giúp các bên liên quan trong lĩnh vực xây dựng\, bao gồm các nhà phát triển xây dựng\, tổ chức tài chính\, công ty bảo hiểm và chính phủ dễ dàng đánh giá\, cải thiện và tiết lộ khả năng phục hồi của các tòa nhà. \nThời gian và địa điểm: \nHà Nội: 08:30 ngày thứ Năm 20/04/2023 tại Press Club\, 12 Lý Đạo Thành\, Quận Hoàn Kiếm. \nTP Hồ Chí Minh: 08:30 ngày thứ Bảy 22/04/2023 tại  Sheraton Saigon Hotel\, 88 Đồng Khởi\, Quận 1. \nLink đăng ký: https://forms.gle/KXR3vSNVYPtEmeYg6 \n\n[English version] \nThe workshop will be organized by the International Finance Corporation (IFC) and partners\, and PMI Vietnam Chapter. \nAbout the workshop: \nIntroduction of Building Resilience Index (BRI). BRI is a web-based hazard mapping and resilience assessment framework for the building sector (https://www.resilienceindex.org/). It is designed to facilitate access to location-specific hazard information\, provide resilience measures to mitigate applicable risks\, and improve transparency for disclosing a building’s resilience information between sector stakeholders. BRI makes it easy for building sector stakeholders\, including construction developers\, financial institutions\, insurers\, and governments to assess\, improve\, and disclose the resilience of buildings. \nTime and venues: \nHanoi: Thursday 08:30 am April 20\, 2023 at Press Club\, 12 Ly Dao Thanh St.\, Hoan Kiem Dist.\, Hanoi \nHCMC: Saturday 08:30 am April 22\, 2023 at Sheraton Saigon Hotel\, 88 Dong Khoi St.\, District 1. \nRegistration link: https://forms.gle/KXR3vSNVYPtEmeYg6
URL:https://pmivietnamchapter.com/event/hoi-thao-gioi-thieu-chi-so-kha-nang-chong-chiu-cua-toa-nha-introduction-to-building-resilience-index-workshop/
CATEGORIES:Offline Workshop
ATTACH;FMTTYPE=image/png:https://pmivietnamchapter.com/wp-content/uploads/2023/04/Anh-dai-dien-3.png
END:VEVENT
BEGIN:VEVENT
DTSTART;TZID=Asia/Krasnoyarsk:20230329T200000
DTEND;TZID=Asia/Krasnoyarsk:20230329T213000
DTSTAMP:20260421T124023
CREATED:20231127T143717Z
LAST-MODIFIED:20231127T143717Z
UID:10231-1680120000-1680125400@pmivietnamchapter.com
SUMMARY:[ONLINE EVENT] STORYTELLING FOR PROJECT PEOPLE
DESCRIPTION:[English caption below] \nSự kiện online do PMI Vietnam Chapter tổ chức về chủ đề “Storytelling for Project People” (Tạm dịch: “Nghệ thuật kể chuyện cho thành viên dự án”) sẽ diễn ra ngày 29/3/2023. Diễn giả: Bà Dawn Mahan (Founder & CEO of PMOtraining LLC). \nMục đích của bài chia sẻ nhằm giúp nâng cao khả năng lãnh đạo của các thành viên trong cộng đồng quản lý dự án thông qua những câu chuyện thành công của bà Dawn Mahan trong nhiều năm dẫn dắt dự án của các công ty hàng đầu trên thế giới. \nNội dung sự kiện: \n+ Thảo luận kỹ năng kể chuyện có thể giúp gì cho sự nghiệp của bạn \n+ Lắng nghe Dawn chia sẻ một vài câu chuyện yêu thích của cô ấy từ cuốn sách sắp ra mắt của cô ấy: “Chào mừng đến với Projectland”. \n+ Chia thành các nhóm nhỏ để kết nối và thảo luận xem câu chuyện nào khiến bạn ấn tượng nhất và tại sao. \n+ Tham gia vào một cuộc khảo sát về mục yêu thích của bạn. \n+ Hoan nghênh phản hồi về những câu chuyện có thể xuất hiện trong sách của Dawn. Tùy chọn: Tên của bạn được liệt kê trong cuốn sách sắp ra mắt của Dawn với tư cách là người đóng góp. \nNgười tham gia sẽ tích lũy được 1 PDU. \nHình thức: online qua Google meeting. \nThời gian: 8.00 – 9.30 tối (GMT+7)\, ngày 29/03/2023. \nSố vé: 100 vé miễn phí. \nLink đăng ký: https://forms.gle/z9J6ZjVgZXJPSaGv7 \nThông tin diễn giả: \nDawn Mahan là nhà sáng lập công ty PMOtraining.com\, Project Guru Academy và The Project Gurus. Trước khi rời vai trò lãnh đạo dự án trong Fortune 500 vào năm 2009\, cô là lãnh đạo PMO của Fortune 500\, Tư vấn viên CNTT/Kinh doanh Cấp cao\, Trợ lý Chuyên gia tính toán và Chuyên gia thống kê sinh học. \nLink thông tin về diễn giả\, PMOtraining.com và Project Guru\nAcademy: \nhttps://www.linkedin.com/in/dawnmahan/ \nhttps://www.facebook.com/PMOtiger/ \nhttps://www.linkedin.com/company/pmotraining \nhttps://www.linkedin.com/showcase/projectguruacademy \n#pmivietnamchapter \n#PMOtrainingcom#projectguruacademy#dawnmahan \n__________________ \n[English Version]: \nAn online event organized by PMI Vietnam Chapter on the topic “Storytelling for Project People” will take place on March 29\, 2023. Speaker: Ms. Dawn Mahan (Founder & CEO of PMOtraining LLC). \nParticipants will get 1PDU. \nTopic: Storytelling for Project People \nOnline event: Google meeting \nDate: 29th March 2023 \nTime: 8.00 – 9.30 pm (GMT+7) \nTicket numbers: 100 free tickets \nRegistration link: https://forms.gle/z9J6ZjVgZXJPSaGv7 \nAbout speaker: \nDawn Mahan is founder of PMOtraining.com and its divisions the Project Guru Academy and The Project Gurus. Before leaving a project leadership role in the Fortune 500 in 2009\, she was a Fortune 500 PMO leader\, a Senior Business/IT Consultant\, Assistant Actuary and Biostatistician. \nStorytelling is a skill that has been getting a lot of press lately and one that project managers will benefit from cultivating. In this unique session\, international speaker\, Dawn Mahan\, will share several stories from her upcoming book: Welcome to Projectland. \nDawn’s stories from her years of working with top brands around the world and hands-on experience leading projects across industries will resonate with everyone who has ever participated in or led a project. \nThis interactive experience will also get you thinking about your own career stories that can help amplify your leadership profile. Learning Outcomes: \n1. Practical tips for great storytelling. \n2. Where stories help us in Projectland\, so that you can consider where you might use storytelling on-the-job next. \n3. Identify YOUR story ideas that will help amplify your leadership profile. \nLink of the speaker\, PMOtraining.com and Project Guru Academy: \nhttps://www.linkedin.com/in/dawnmahan/ \nhttps://www.facebook.com/PMOtiger/ \nhttps://www.linkedin.com/company/pmotraining \nhttps://www.linkedin.com/showcase/projectguruacademy
URL:https://pmivietnamchapter.com/event/online-event-storytelling-for-project-people/
CATEGORIES:Online Workshop
ATTACH;FMTTYPE=image/jpeg:https://pmivietnamchapter.com/wp-content/uploads/2023/03/FINAL-1-scaled.jpg
ORGANIZER;CN="PMI Vietnam Event Team":MAILTO:event@pmichaptervietnam.com
END:VEVENT
BEGIN:VEVENT
DTSTART;TZID=Asia/Krasnoyarsk:20230325T090000
DTEND;TZID=Asia/Krasnoyarsk:20230325T120000
DTSTAMP:20260421T124023
CREATED:20231127T144139Z
LAST-MODIFIED:20231127T144139Z
UID:10235-1679734800-1679745600@pmivietnamchapter.com
SUMMARY:Workshop ‘Agile Transformation’
DESCRIPTION:[English below]\n\nNgày 25/3/2023 tới đây tại Hà Nội\, sẽ diễn ra workshop “Agile Transformation”. Sự kiện do Viện QLDA Atoha và PMI Vietnam Chapter đồng tổ chức.\n+ Link đăng ký: https://bit.ly/WSHN_Agile-Transformation\n\n\n+ Thời gian Thứ 7\, ngày 25/03/2023 từ 09h00 – 12h00.\n+ Địa điểm: Tầng 9\, 299 Cầu Giấy\, Dịch Vọng\, Cầu Giấy\, Hà Nội.\n+ Phí tham dự: 250.000đ/khách.\n\n\n\n#Atoha #AgileTransformation #PMIVietnamChapter\n\n[English version]\n\nThe workshop ‘Agile Transformation’\, co-organized by Atoha Istitute and PMI Vietnam Chapter on 25 Mar 2023 in Hanoi.\n+ Registration Link: https://bit.ly/WSHN_Agile-Transformation\n+ Time: Sat\, 25 Mar 2023\, 09:00am – 12:00pm (GMT+7).\n+ Venue: 9th Flr.\, 299 Cau Giay St.\, Dich Vong Ward\, Cau Giay Dist.\, Hanoi.\n+ Fee: 250.000 VND/pax.
URL:https://pmivietnamchapter.com/event/workshop-agile-transformation/
CATEGORIES:Offline Workshop
ATTACH;FMTTYPE=image/png:https://pmivietnamchapter.com/wp-content/uploads/2023/03/HaNoi-Event-Agile-Transformation.png
END:VEVENT
BEGIN:VEVENT
DTSTART;TZID=Asia/Krasnoyarsk:20230325T090000
DTEND;TZID=Asia/Krasnoyarsk:20230325T120000
DTSTAMP:20260421T124023
CREATED:20231127T143927Z
LAST-MODIFIED:20231127T143927Z
UID:10233-1679734800-1679745600@pmivietnamchapter.com
SUMMARY:Workshop “Agile in Daily Life”
DESCRIPTION:Chuỗi sự kiện được đồng tổ chức bởi Viện Quản lý dự án Atoha và PMI Vietnam Chapter\, workshop có chủ đề “Agile in daily life” sẽ được tổ chức tại TP.HCM ngày 25/3/2023\, trình bày bởi Diễn giả Từ Đăng Khoa (PMI Rising Leader Award 2022\, PMP\, PMI-ACP\, DASSM\, DAVSC\, DAC\, PSM-II\, SaFe 5 Scrum Master\, SAFe 5 Advanced Scrum Master\, SAFe 5 DevOps\, PMI-ATP Instructor). \n+ Thời gian: Thứ 7\, ngày 25/03/2023 từ 09h00 – 12h00. \n+ Địa điểm: Aquari Hotel\, 9B Thi Sách\, Bến Nghé\, Quận 1\, HCM \n+ Link đăng ký:  https://bit.ly/WS_Agile-in-daily-life \n+ Phí tham dự: 250.000đ/khách. \n______________ \n[English version] \nAs part of a series of events co-organized by Atoha Institute of Project Management and PMI Vietnam Chapter\, the workshop themed “Agile in daily life” will be held in Ho Chi Minh City on March 25\, 2023\, presented by Dien Bien. Tu Dang Khoa (PMI Rising Leader Award 2022\, PMP\, PMI-ACP\, DASSM\, DAVSC\, DAC\, PSM-II\, SaFe 5 Scrum Master\, SAFe 5 Advanced Scrum Master\, SAFe 5 DevOps\, PMI-ATP Instructor). \n+ Registration Link: https://bit.ly/WS_Agile-in-daily-life \n+ Time: Sat\, 25 Mar 2023\, 09:00am – 12:00pm (GMT+7). \n+ Venue: Aquari Hotel\, 9B Thi Sach St.\, Ben Nghe Ward\, Dist. 1\, HCMC. \n+ Fee: 250.000 VND/pax.
URL:https://pmivietnamchapter.com/event/workshop-agile-in-daily-life/
CATEGORIES:Offline Workshop
ATTACH;FMTTYPE=image/png:https://pmivietnamchapter.com/wp-content/uploads/2023/03/HCM-Event-Agile-In-Daily-Life.png
END:VEVENT
BEGIN:VEVENT
DTSTART;TZID=Asia/Krasnoyarsk:20230225T140000
DTEND;TZID=Asia/Krasnoyarsk:20230225T170000
DTSTAMP:20260421T124023
CREATED:20231129T145010Z
LAST-MODIFIED:20231129T145010Z
UID:10237-1677333600-1677344400@pmivietnamchapter.com
SUMMARY:[RECAP] Seminar “Project Management in Construction”
DESCRIPTION:On 25 Feb\, 2023\, Seminar “Project Management in Construction” was held in University of Danang. \nThe event was co-organized by the Project Management Department\, University of Technology\, University of Danang; Society of Construction Law – Viet Nam (SCLVN); Viet Nam Society of Construction Engineers (VSCE) and Project Management Institute – Vietnam Chapter (PMI – Vietnam Chapter)
URL:https://pmivietnamchapter.com/event/recap-seminar-project-management-in-construction/
CATEGORIES:Seminar
ATTACH;FMTTYPE=image/png:https://pmivietnamchapter.com/wp-content/uploads/2023/02/Anh-dai-dien.png
END:VEVENT
BEGIN:VEVENT
DTSTART;TZID=Asia/Krasnoyarsk:20220318T190000
DTEND;TZID=Asia/Krasnoyarsk:20220318T203000
DTSTAMP:20260421T124023
CREATED:20231129T145305Z
LAST-MODIFIED:20231129T145305Z
UID:10239-1647630000-1647635400@pmivietnamchapter.com
SUMMARY:Project Business Management
DESCRIPTION:This workshop provides and introduction to cross-corporate Project Business\nManagement: What is different when a project is not done by internal people but by\none or more contractors? What challenges and risks must the parties involved manage?\nAnd what do solutions look like. \nRegistration here: https://forms.gle/d1EWLxREc23tdjAt8
URL:https://pmivietnamchapter.com/event/project-business-management/
CATEGORIES:Online Workshop
ATTACH;FMTTYPE=image/jpeg:https://pmivietnamchapter.com/wp-content/uploads/2022/03/PMI-Event_20220318-scaled.jpg
END:VEVENT
BEGIN:VEVENT
DTSTART;TZID=Asia/Krasnoyarsk:20220118T190000
DTEND;TZID=Asia/Krasnoyarsk:20220118T210000
DTSTAMP:20260421T124023
CREATED:20231129T145509Z
LAST-MODIFIED:20231129T145509Z
UID:10241-1642532400-1642539600@pmivietnamchapter.com
SUMMARY:The Critical Role of Communications in Project Management
DESCRIPTION:January Event from PMI Vietnam Chapter\, join us to discuss “The Critical Role of Communications in Project Management”\n\nPresenter: Mr. Brian O’Reilly – MBA Program Coordinator\, Vietnamese-German University.\nLanguage: English.\n\nBenefit: when you complete this Event and if you are PMI member\, we will send you a Claim Code via email to report 2 PDUs to PMI.\nRegistration Link: https://forms.gle/YfP3JnriFFD9vYud9\nThe link to join the event will be sent to your email from 2-3 days before the start time.\n𝑾𝒆 𝒉𝒐𝒑𝒆 𝒕𝒉𝒂𝒕 𝒚𝒐𝒖 𝒘𝒊𝒍𝒍 𝒆𝒏𝒋𝒐𝒚 𝒕𝒉𝒆 𝒆𝒗𝒆𝒏𝒕!\nContact us at 0962 928 842 or hai.nguyen@pmivietnamchapter.com
URL:https://pmivietnamchapter.com/event/the-critical-role-of-communications-in-project-management/
CATEGORIES:Online Workshop
ATTACH;FMTTYPE=image/jpeg:https://pmivietnamchapter.com/wp-content/uploads/2022/01/Jan.jpg
END:VEVENT
BEGIN:VEVENT
DTSTART;TZID=Asia/Krasnoyarsk:20211031T090000
DTEND;TZID=Asia/Krasnoyarsk:20211031T100000
DTSTAMP:20260421T124023
CREATED:20231129T145709Z
LAST-MODIFIED:20231129T145709Z
UID:10243-1635670800-1635674400@pmivietnamchapter.com
SUMMARY:The PMBOK® Guide 7th Edition – An Executive Overview
DESCRIPTION:This is Special Event\, exclusively for PMI Vietnam Chapter’s Members\, Mentors Leaders & Mentee who signed up to join our Study Group Activity. \nPresenter: Cornelius Fichtner- PMP\, CSM President of OSP International LLC\,\, founder PM Prepcast & PMP Exam Simulator\nEvent Language: English. \nThis is a one-hour executive overview of the PMBOK Guide. This is for those who want to get a basic overview/introduction to the new guide. It also includes a discussion about the PMP exam and the PMBOK Guide \nAgenda:\n–  PMBOK® Guide Seven – Executive Overview\n–  History\n–  Principles\n–  Domains\n–  PMBOK® Guide Seven – PMP Exam Prep\n–  “Which PMBOK should I use?”
URL:https://pmivietnamchapter.com/event/the-pmbok-guide-7th-edition-an-executive-overview/
CATEGORIES:Online Workshop
ATTACH;FMTTYPE=image/jpeg:https://pmivietnamchapter.com/wp-content/uploads/2021/10/Nov-Event.jpg
END:VEVENT
BEGIN:VEVENT
DTSTART;TZID=Asia/Krasnoyarsk:20211012T200000
DTEND;TZID=Asia/Krasnoyarsk:20211012T220000
DTSTAMP:20260421T124023
CREATED:20231129T145910Z
LAST-MODIFIED:20231129T145910Z
UID:10245-1634068800-1634076000@pmivietnamchapter.com
SUMMARY:Risk Management for Construction Company
DESCRIPTION:Description: Construction project with complex and interfacing with various environments. It faces various risks. Managing risk is one of the key factors for the success of construction projects.\nLearning Objectives:\n1. Risk in construction project\n2. Risk identification\n3. Internal Risk\n4. External Risk\n5. Plan Risk response\n6. Risk Control \nAdditional benefits: 2 PDUs \nRegistration link: https://forms.gle/jFud59vLdzg7KM5J8
URL:https://pmivietnamchapter.com/event/risk-management-for-construction-company/
CATEGORIES:Online Workshop
ATTACH;FMTTYPE=image/jpeg:https://pmivietnamchapter.com/wp-content/uploads/2021/10/Oct_Event.jpg
END:VEVENT
BEGIN:VEVENT
DTSTART;TZID=Asia/Krasnoyarsk:20210914T200000
DTEND;TZID=Asia/Krasnoyarsk:20210914T220000
DTSTAMP:20260421T124023
CREATED:20231129T150117Z
LAST-MODIFIED:20231129T150117Z
UID:10247-1631649600-1631656800@pmivietnamchapter.com
SUMMARY:Project Management vs Change Management
DESCRIPTION:Benefit: 2 PDUs for PMI member \nLearning Outcomes: \n1. Understand the fundamental differences between Project Management and Change Management\n2. Understand the benefits of including Change Management when executing Project Management to determine a successful outcome.\n3. Gain an overview of how to integrate the two disciplines.\n\nRegistration link: https://forms.gle/GctdCyVx7KoRbwuz5
URL:https://pmivietnamchapter.com/event/project-management-vs-change-management/
CATEGORIES:Online Workshop
ATTACH;FMTTYPE=image/jpeg:https://pmivietnamchapter.com/wp-content/uploads/2021/08/Sept-event.jpg
END:VEVENT
BEGIN:VEVENT
DTSTART;TZID=Asia/Krasnoyarsk:20210803T070000
DTEND;TZID=Asia/Krasnoyarsk:20210803T090000
DTSTAMP:20260421T124023
CREATED:20231129T150301Z
LAST-MODIFIED:20231129T150301Z
UID:10249-1627974000-1627981200@pmivietnamchapter.com
SUMMARY:How to apply PMO in your company for projects
DESCRIPTION:𝐁𝐞𝐧𝐞𝐟𝐢𝐭:\n– Understand PMOs\, role of PMs in PMOs and what PMOs can do for your company\n– 1.5 PDU for PMI member\n𝐀𝐠𝐞𝐧𝐝𝐚:\n– Opening and Welcome from PMI Vietnam Chapter(Mr. Hoa Dang – Chairman PMI Vietnam Chapter)\n– Intro Asia PMO\n– Intro about Waterfall & Agile Management\n– What is PMO? What are the maturity models?\n– The role of PMO in Waterfall and Agile Projects?\n– The role of PMO for company-wide ideation\, coordination and execution?\n– Further roles of PMO for Customer Experience and OKRs (goal-setting) implementation?\n– Q&A and Thanks\nRegistration link: https://forms.gle/QMaFpTcxeTTtySZs5
URL:https://pmivietnamchapter.com/event/how-to-apply-pmo-in-your-company-for-projects/
CATEGORIES:Online Workshop
ATTACH;FMTTYPE=image/jpeg:https://pmivietnamchapter.com/wp-content/uploads/2021/04/Aug-event.jpg
END:VEVENT
BEGIN:VEVENT
DTSTART;TZID=Asia/Krasnoyarsk:20210414T193000
DTEND;TZID=Asia/Krasnoyarsk:20210414T203000
DTSTAMP:20260421T124023
CREATED:20231129T150500Z
LAST-MODIFIED:20231129T150500Z
UID:10251-1618428600-1618432200@pmivietnamchapter.com
SUMMARY:𝐏𝐌𝐁𝐎𝐊 𝐆𝐮𝐢𝐝𝐞 𝟕𝐭𝐡 𝐄𝐝𝐢𝐭𝐢𝐨𝐧 𝐚𝐧𝐝 𝐏𝐌𝐏 𝐄𝐱𝐚𝐦
DESCRIPTION:The Virtual Course live event will take place on Wed\, 14 April. Both Chapter/Non-Chapter Members are encouraged to attend and hear about changes of the 𝐏𝐌𝐁𝐎𝐊 𝐆𝐮𝐢𝐝𝐞 𝟕𝐭𝐡 𝐄𝐝𝐢𝐭𝐢𝐨𝐧 𝐚𝐧𝐝 𝐏𝐌𝐏 𝐄𝐱𝐚𝐦 but not limited to PMI Vietnam Chapter’s news.\nThe event is free but registration is required. Register via this link:\nhttps://forms.gle/D1E3bupMJeHkhDim7\n\nWhat will / will be you do during event?\nDuring the live event\, you will be able to make questions to the speaker(Mr. Herbert G. Gonder\, PMP\, PMI-ACP) – OutReach Leader from PMI Vietnam Chapter.\n\n\nATTANDEE BENEFIT: Each participant will be earn 1.5 PDU after Event completed if you are a PMI Member.\n\n\n\n\n\nAgenda\n\n\n\n\n\n\n7:30 PM — 7:45 PM\nOpening and Welcome from MC\n7:45 PM — 8:00 PM\nBrief information of PMI Potential Vietnam Chapter\n8:00 PM — 8:45 PM\nPMBok Guide and 7th Edition and new PMP Examination Content Outline\n8:45 PM — 9:00 PM\nQ&A and Cheering
URL:https://pmivietnamchapter.com/event/%f0%9d%90%8f%f0%9d%90%8c%f0%9d%90%81%f0%9d%90%8e%f0%9d%90%8a-%f0%9d%90%86%f0%9d%90%ae%f0%9d%90%a2%f0%9d%90%9d%f0%9d%90%9e-%f0%9d%9f%95%f0%9d%90%ad%f0%9d%90%a1-%f0%9d%90%84%f0%9d%90%9d%f0%9d%90%a2/
CATEGORIES:Online Workshop
ATTACH;FMTTYPE=image/jpeg:https://pmivietnamchapter.com/wp-content/uploads/2017/02/PMBOK-v7.jpg
END:VEVENT
END:VCALENDAR