BEGIN:VCALENDAR
VERSION:2.0
PRODID:-//PMI Vietnam Chapter - ECPv6.15.20//NONSGML v1.0//EN
CALSCALE:GREGORIAN
METHOD:PUBLISH
X-ORIGINAL-URL:https://pmivietnamchapter.com
X-WR-CALDESC:Sự kiện cho PMI Vietnam Chapter
REFRESH-INTERVAL;VALUE=DURATION:PT1H
X-Robots-Tag:noindex
X-PUBLISHED-TTL:PT1H
BEGIN:VTIMEZONE
TZID:Asia/Krasnoyarsk
BEGIN:STANDARD
TZOFFSETFROM:+0700
TZOFFSETTO:+0700
TZNAME:+07
DTSTART:20220101T000000
END:STANDARD
END:VTIMEZONE
BEGIN:VEVENT
DTSTART;TZID=Asia/Krasnoyarsk:20230329T200000
DTEND;TZID=Asia/Krasnoyarsk:20230329T213000
DTSTAMP:20260423T190849
CREATED:20231127T143717Z
LAST-MODIFIED:20231127T143717Z
UID:10231-1680120000-1680125400@pmivietnamchapter.com
SUMMARY:[ONLINE EVENT] STORYTELLING FOR PROJECT PEOPLE
DESCRIPTION:[English caption below] \nSự kiện online do PMI Vietnam Chapter tổ chức về chủ đề “Storytelling for Project People” (Tạm dịch: “Nghệ thuật kể chuyện cho thành viên dự án”) sẽ diễn ra ngày 29/3/2023. Diễn giả: Bà Dawn Mahan (Founder & CEO of PMOtraining LLC). \nMục đích của bài chia sẻ nhằm giúp nâng cao khả năng lãnh đạo của các thành viên trong cộng đồng quản lý dự án thông qua những câu chuyện thành công của bà Dawn Mahan trong nhiều năm dẫn dắt dự án của các công ty hàng đầu trên thế giới. \nNội dung sự kiện: \n+ Thảo luận kỹ năng kể chuyện có thể giúp gì cho sự nghiệp của bạn \n+ Lắng nghe Dawn chia sẻ một vài câu chuyện yêu thích của cô ấy từ cuốn sách sắp ra mắt của cô ấy: “Chào mừng đến với Projectland”. \n+ Chia thành các nhóm nhỏ để kết nối và thảo luận xem câu chuyện nào khiến bạn ấn tượng nhất và tại sao. \n+ Tham gia vào một cuộc khảo sát về mục yêu thích của bạn. \n+ Hoan nghênh phản hồi về những câu chuyện có thể xuất hiện trong sách của Dawn. Tùy chọn: Tên của bạn được liệt kê trong cuốn sách sắp ra mắt của Dawn với tư cách là người đóng góp. \nNgười tham gia sẽ tích lũy được 1 PDU. \nHình thức: online qua Google meeting. \nThời gian: 8.00 – 9.30 tối (GMT+7)\, ngày 29/03/2023. \nSố vé: 100 vé miễn phí. \nLink đăng ký: https://forms.gle/z9J6ZjVgZXJPSaGv7 \nThông tin diễn giả: \nDawn Mahan là nhà sáng lập công ty PMOtraining.com\, Project Guru Academy và The Project Gurus. Trước khi rời vai trò lãnh đạo dự án trong Fortune 500 vào năm 2009\, cô là lãnh đạo PMO của Fortune 500\, Tư vấn viên CNTT/Kinh doanh Cấp cao\, Trợ lý Chuyên gia tính toán và Chuyên gia thống kê sinh học. \nLink thông tin về diễn giả\, PMOtraining.com và Project Guru\nAcademy: \nhttps://www.linkedin.com/in/dawnmahan/ \nhttps://www.facebook.com/PMOtiger/ \nhttps://www.linkedin.com/company/pmotraining \nhttps://www.linkedin.com/showcase/projectguruacademy \n#pmivietnamchapter \n#PMOtrainingcom#projectguruacademy#dawnmahan \n__________________ \n[English Version]: \nAn online event organized by PMI Vietnam Chapter on the topic “Storytelling for Project People” will take place on March 29\, 2023. Speaker: Ms. Dawn Mahan (Founder & CEO of PMOtraining LLC). \nParticipants will get 1PDU. \nTopic: Storytelling for Project People \nOnline event: Google meeting \nDate: 29th March 2023 \nTime: 8.00 – 9.30 pm (GMT+7) \nTicket numbers: 100 free tickets \nRegistration link: https://forms.gle/z9J6ZjVgZXJPSaGv7 \nAbout speaker: \nDawn Mahan is founder of PMOtraining.com and its divisions the Project Guru Academy and The Project Gurus. Before leaving a project leadership role in the Fortune 500 in 2009\, she was a Fortune 500 PMO leader\, a Senior Business/IT Consultant\, Assistant Actuary and Biostatistician. \nStorytelling is a skill that has been getting a lot of press lately and one that project managers will benefit from cultivating. In this unique session\, international speaker\, Dawn Mahan\, will share several stories from her upcoming book: Welcome to Projectland. \nDawn’s stories from her years of working with top brands around the world and hands-on experience leading projects across industries will resonate with everyone who has ever participated in or led a project. \nThis interactive experience will also get you thinking about your own career stories that can help amplify your leadership profile. Learning Outcomes: \n1. Practical tips for great storytelling. \n2. Where stories help us in Projectland\, so that you can consider where you might use storytelling on-the-job next. \n3. Identify YOUR story ideas that will help amplify your leadership profile. \nLink of the speaker\, PMOtraining.com and Project Guru Academy: \nhttps://www.linkedin.com/in/dawnmahan/ \nhttps://www.facebook.com/PMOtiger/ \nhttps://www.linkedin.com/company/pmotraining \nhttps://www.linkedin.com/showcase/projectguruacademy
URL:https://pmivietnamchapter.com/event/online-event-storytelling-for-project-people/
CATEGORIES:Online Workshop
ATTACH;FMTTYPE=image/jpeg:https://pmivietnamchapter.com/wp-content/uploads/2023/03/FINAL-1-scaled.jpg
ORGANIZER;CN="PMI Vietnam Event Team":MAILTO:event@pmichaptervietnam.com
END:VEVENT
END:VCALENDAR