BEGIN:VCALENDAR
VERSION:2.0
PRODID:-//PMI Vietnam Chapter - ECPv6.15.20//NONSGML v1.0//EN
CALSCALE:GREGORIAN
METHOD:PUBLISH
X-WR-CALNAME:PMI Vietnam Chapter
X-ORIGINAL-URL:https://pmivietnamchapter.com
X-WR-CALDESC:Sự kiện cho PMI Vietnam Chapter
REFRESH-INTERVAL;VALUE=DURATION:PT1H
X-Robots-Tag:noindex
X-PUBLISHED-TTL:PT1H
BEGIN:VTIMEZONE
TZID:Asia/Krasnoyarsk
BEGIN:STANDARD
TZOFFSETFROM:+0700
TZOFFSETTO:+0700
TZNAME:+07
DTSTART:20220101T000000
END:STANDARD
END:VTIMEZONE
BEGIN:VEVENT
DTSTART;TZID=Asia/Krasnoyarsk:20230910T200000
DTEND;TZID=Asia/Krasnoyarsk:20230910T220000
DTSTAMP:20260423T103521
CREATED:20231126T140008Z
LAST-MODIFIED:20231126T140008Z
UID:10196-1694376000-1694383200@pmivietnamchapter.com
SUMMARY:[Online] – BitTrain Series WEBINAR 2: TƯ DUY THIẾT KẾ – KINH NGHIỆM ĐỂ CẢI THIỆN KHẢ NĂNG TẬP TRUNG VÀO KHÁCH HÀNG
DESCRIPTION:PMI Vietnam Chapter – Webinar\n\n[BitTrain Series]\n\n\n\nChủ đề Webinar 2 kỳ này:\nTƯ DUY THIẾT KẾ – KINH NGHIỆM ĐỂ CẢI THIỆN KHẢ NĂNG TẬP TRUNG VÀO KHÁCH HÀNG\n\nTrong thời đại VUCA ngày nay\, doanh nghiệp nào cũng cần trang bị cho mình khả năng thích ứng nhanh thông qua việc chuyển giao nhanh các sản phẩm\, dịch vụ hay giải pháp công nghệ.\n\nĐể tối ưu quá trình xây dựng và chuyển giao sản phẩm\, chúng ta cần có sự cân bằng giữa việc hiểu\, cảm thông\, tư duy giải pháp tối ưu cho khách hàng (Customer Focus) với thời gian thực thi để tạo ra sản phẩm (Execution Focused).\n\nCác tổ chức\, PO thường tập trung lớn vào Execution Focused trong khi coi nhẹ Customer Focus dẫn đến nhiều rủi ro đáng tiếc cho quá trình sản xuất và chuyển giao sản phẩm.\n\nBuổi webinar này\, tập trung vào Customer Focus\, sẽ mang đến cho mọi người những kinh nghiệm thực tế liên quan việc hiểu\, đồng cảm\, xác định vấn đề của khách hàng cũng như những cách thức để thiết kế giải pháp tối ưu nhằm mang lại nhiều giá trị nhất cho khách hàng\, giảm rủi ro cho quá trình sản xuất sản phẩm và dịch vụ mới.\n\nTham gia sự kiện bằng cách quét mã QR hoặc link: https://zalo.me/g/ejxfyl375\n\nLink thông tin sự kiện:\nhttps://bittrain.coach/webinar2-tu-duy-thiet-ke-kinh…\n\n————————————-\nThời gian: Chủ Nhật\, ngày 10/09/2023\n️Live-online 20:00 – 22:00
URL:https://pmivietnamchapter.com/event/online-bittrain-series-webinar-2-tu-duy-thiet-ke-kinh-nghiem-de-cai-thien-kha-nang-tap-trung-vao-khach-hang/
CATEGORIES:Online Workshop
ATTACH;FMTTYPE=image/png:https://pmivietnamchapter.com/wp-content/uploads/2023/09/banner-webinar-2.png
ORGANIZER;CN="PMI Vietnam Outreach Team":MAILTO:outreach@pmivietnamchapter.com
END:VEVENT
END:VCALENDAR