BEGIN:VCALENDAR
VERSION:2.0
PRODID:-//PMI Vietnam Chapter - ECPv6.15.20//NONSGML v1.0//EN
CALSCALE:GREGORIAN
METHOD:PUBLISH
X-WR-CALNAME:PMI Vietnam Chapter
X-ORIGINAL-URL:https://pmivietnamchapter.com
X-WR-CALDESC:Sự kiện cho PMI Vietnam Chapter
REFRESH-INTERVAL;VALUE=DURATION:PT1H
X-Robots-Tag:noindex
X-PUBLISHED-TTL:PT1H
BEGIN:VTIMEZONE
TZID:Asia/Krasnoyarsk
BEGIN:STANDARD
TZOFFSETFROM:+0700
TZOFFSETTO:+0700
TZNAME:+07
DTSTART:20230101T000000
END:STANDARD
END:VTIMEZONE
BEGIN:VEVENT
DTSTART;TZID=Asia/Krasnoyarsk:20240621T210000
DTEND;TZID=Asia/Krasnoyarsk:20240621T223000
DTSTAMP:20260421T223651
CREATED:20240609T140244Z
LAST-MODIFIED:20240620T015519Z
UID:11058-1719003600-1719009000@pmivietnamchapter.com
SUMMARY:[Online] Sự kiện PMI Chapter Xchange lần thứ 5 năm 2024!
DESCRIPTION:[English version below] \n[Online] Sự kiện PMI Chapter Xchange lần thứ 5 năm 2024! \nChúng tôi rất vui mừng được thông báo về sự kiện PMI Xchange tiếp theo: Đạo đức và quy định trong quản lý dự án\, do PMI Mumbai Chapter tổ chức. \nĐây là sự kiện trong mùa thứ 5 của chuỗi sự kiện PMI Chapter Xchange\, có sự hợp tác giữa 32 Chapter: Mumbai\, Hà Lan\, Nam Phi\, Sri Lanka\, Phoenix\, New Zealand\, Zimbabwe\, Indonesia\, Gujarat\, Lima Peru\, Nam Alberta\, Sao Paulo\, Kenya\, Ghana\, Hy Lạp\, Puget Sound\, Ba Lan\, Alaska\, Các tiểu vương quốc Ả Rập thống nhất\, Bangladesh\, Nigeria \, Cameroon\, Luxembourg\, Turkiye\, PMI Jalisco\, PMI Đài Bắc; Madrid\, Tây Ban Nha; PMI Malaysia\, PMI Việt Nam\, PMI Mông Cổ\, PMI Guayas\, PMI Bajio và PMI Galicia. \nAnh Quách Lê Trương (LinkedIn: https://www.linkedin.com/in/truongquach)\, Project Professional Team Leader – PMI Việt Nam Chapter\, sẽ là một trong những thành viên tham gia hội thảo. \nNgày: Ngày 21 tháng 6 năm 2024\nThời gian:: 21:00 – 22:30 GMT +7\nNền tảng: Online qua Microsoft Teams\nĐăng ký tại đây: https://lnkd.in/d_fMJrB4 \n[English version] \nWe are thrilled to announce the next PMI Xchange event: Ethics and regulations in project management\, hosted by the PMI Mumbai Chapter. \nThis is an event in season 5 of PMI Chapter Xchange series\, the collaborative event of 32-way collaboration between the PMI Chapters of; Mumbai\, Netherlands\, South Africa\, Sri Lanka\, Phoenix\, New Zealand\, Zimbabwe\, Indonesia\, Gujarat\, Lima Peru\, Southern Alberta\, Sao Paulo\, Kenya\, Ghana\, Greece\, Puget Sound\, Poland\, Alaska\, United Arab Emirates\, Bangladesh\, Nigeria\, Cameroon\, Luxembourg\, Turkiye\, PMI Jalisco\, PMI Taipei; Madrid Spain; PMI Malaysia\, PMI Vietnam\, PMI Mongolia\, PMI Guayas\, PMI Bajio and PMI Galicia. \nMr. James Quach (LinkedIn: https://www.linkedin.com/in/truongquach)\, Project Professional Team Leader – PMI Vietnam Chapter\, is one of the panelists. \nDate: Fri\, Jun 21\, 2024.\nTime: 21:00 – 22:30 GMT+7\nPlatform: Online via Microsoft Teams\nRegister here: https://lnkd.in/d_fMJrB4
URL:https://pmivietnamchapter.com/event/online-su-kien-pmi-chapter-xchange-lan-thu-5-nam-2024/
CATEGORIES:Event
ATTACH;FMTTYPE=image/jpeg:https://pmivietnamchapter.com/wp-content/uploads/2024/06/PMIChapterXchange_EthicsRegulationsInProjectManagement.jpg
END:VEVENT
END:VCALENDAR