BEGIN:VCALENDAR
VERSION:2.0
PRODID:-//PMI Vietnam Chapter - ECPv6.15.20//NONSGML v1.0//EN
CALSCALE:GREGORIAN
METHOD:PUBLISH
X-ORIGINAL-URL:https://pmivietnamchapter.com
X-WR-CALDESC:Sự kiện cho PMI Vietnam Chapter
REFRESH-INTERVAL;VALUE=DURATION:PT1H
X-Robots-Tag:noindex
X-PUBLISHED-TTL:PT1H
BEGIN:VTIMEZONE
TZID:Asia/Krasnoyarsk
BEGIN:STANDARD
TZOFFSETFROM:+0700
TZOFFSETTO:+0700
TZNAME:+07
DTSTART:20230101T000000
END:STANDARD
END:VTIMEZONE
BEGIN:VTIMEZONE
TZID:Asia/Kolkata
BEGIN:STANDARD
TZOFFSETFROM:+0530
TZOFFSETTO:+0530
TZNAME:IST
DTSTART:20230101T000000
END:STANDARD
END:VTIMEZONE
BEGIN:VEVENT
DTSTART;TZID=Asia/Krasnoyarsk:20240810T090000
DTEND;TZID=Asia/Krasnoyarsk:20240810T120000
DTSTAMP:20260421T195215
CREATED:20240726T022221Z
LAST-MODIFIED:20240726T022221Z
UID:11095-1723280400-1723291200@pmivietnamchapter.com
SUMMARY:[Offline Workshop] LIFE-LONG LEARNING: BÍ QUYẾT PHÁT TRIỂN SỰ NGHIỆP TỪ HỌC & TỰ HỌC
DESCRIPTION: Bạn đang đi làm\, và suy nghĩ về thăng tiến.Chắc chắn rồi!\n Bạn nhận được lời khuyên từ đồng nghiệp\, cấp trên\, mentor\, workshop v.v. là giai đoạn này\, hãy HỌC gì đi\, nâng cao kiến thức\, có tấm chứng chỉ giắt lưng sẽ dễ xin việc\, dễ được cất nhắc\, blah blah. Bạn thấy hợp lý\, nhưng có thể BẠN CHÍNH LÀ MỘT trong những chân dung sau:\n1. Người trăn trở: biết phải học gì nhưng thiếu NGUỒN LỰC (tiền\, thời gian\, gia đình không ủng hộ\, bạn bè trêu chọc\, v.v.)\n2. Người suy tư: có điều kiện nhưng chưa biết học gì vì NHIỀU LỰA CHỌN quá\, chẳng biết đâu dạy tốt\, sợ mất thời gian.\n3. Người vật vã: bản thân bạn\, hoặc công ty bạn có chỉ tiêu về nâng cấp bản thân\, bạn chạy theo mà đuối sức rồi không biết HỌC XONG DÙNG SAO?\nRồi\, áp lực hơn\, công ty biết bạn đi học\, về còn bắt bạn DẠY lại người khác. Dạy mà dạy sai thì chắc cũng tội đồng nghiệp. Không dạy thì mang tiếng không chia sẻ… Workshop này không có quảng cáo\, workshop này chỉ có những góc nhìn từ những người chăm dạy\, chăm học và thật lòng tâm sự\, để bạn có thể tìm được một số gợi ý áp dụng cho bản thân.\nThông tin về workshop:\n Speakers:\nMr. Nguyễn Xuân Bình – Chief Strategy Officer – PMA VietnamMs. Phan Thị Cẩm Nhung – Scrum Master – NastechMr. Trần Vũ Thanh – Trainer / Mentor /Coach – Better You\nThời gian:Thứ Bảy 10/8/202409:00-11:00AM: Panel Discussion11:00-12:00: Networking\nĐịa điểm:Antiko Kafe 24/7 – 191 Nguyễn Thái Bình\, P. Nguyễn Thái Bình\, Quận 1\, TP. HCM\nNgôn ngữ:Tiếng Việt\nPDUs: 2.0\nPhí tham dự:Non-PMI Vietnam Chapter Member: 250.000 VNDPMI Vietnam Chapter Member: 200.000 VND\nLink đăng ký:QR code trên poster hoặc: https://forms.gle/Zdaa4DCKQALGqLbn6
URL:https://pmivietnamchapter.com/event/offline-workshop-life-long-learning-bi-quyet-phat-trien-su-nghiep-tu-hoc-tu-hoc/
LOCATION:Antiko Cafe\, Antiko Kafe 24/7 - 191 Nguyễn Thái Bình\, P. Nguyễn Thái Bình\, Quận 1\, Tp Hồ Chí Minh\, Hồ Chí Minh\, Viet Nam
CATEGORIES:Offline Workshop
ATTACH;FMTTYPE=image/jpeg:https://pmivietnamchapter.com/wp-content/uploads/2024/07/Life_long_Learning.jpg
END:VEVENT
BEGIN:VEVENT
DTSTART;TZID=Asia/Kolkata:20240816T193000
DTEND;TZID=Asia/Kolkata:20240816T213000
DTSTAMP:20260421T195215
CREATED:20240808T140836Z
LAST-MODIFIED:20240808T140836Z
UID:11101-1723836600-1723843800@pmivietnamchapter.com
SUMMARY:[Online] Sự kiện PMI Chapter Xchange lần thứ 7 năm 2024!
DESCRIPTION:Effective communication is essential for successful project management. It ensures that all team members\, stakeholders\, and clients are aligned and informed throughout the project lifecycle. Key elements include setting clear objectives and expectations from the outset\, which involves defining goals\, documenting requirements\, and outlining responsibilities. Active listening is crucial; project managers should encourage open dialogue\, engage team members\, and create a feedback loop that promotes continuous improvement. \nRegular updates through consistent meetings and clear reports help maintain alignment and address potential issues promptly. Adaptability in communication styles is important to meet the needs of different stakeholders and situations. Conflict resolution should be handled constructively to maintain team cohesion. \nLeveraging technology\, such as project management tools and communication platforms\, can streamline information sharing and collaboration. Visual aids like Gantt charts and dashboards help simplify complex information and represent project progress visually. Cultural sensitivity is vital\, as it ensures inclusive communication by being aware of and respecting cultural differences within the team. \nDeveloping contingency plans for crisis communication ensures clear protocols during emergencies\, and maintaining transparency with stakeholders is essential. Mastering these communication skills allows project managers to effectively lead their teams\, address challenges promptly\, and deliver successful projects. \nJoin us for a thought-provoking panel discussion as we explore the critical question: How to master the Art of Communication in project management?” \nThis is a #pmichapterXchange collaborative event of 33-way collaboration between the PMI Chapters of; Mumbai\, Netherlands\, South Africa\, Sri Lanka\, Phoenix\, New Zealand\, Zimbabwe\, Indonesia\, Gujarat\, Lima Peru\, Southern Alberta\, Sao Paulo\, Kenya\, Ghana\, Greece\, Puget Sound\, Poland\, Alaska\, United Arab Emirates\, Bangladesh\, Nigeria\, Cameroon\, Luxembourg\, Turkiye\, PMI Jalisco\, PMI Taipei; Madrid Spain; PMI Malaysia\, PMI Vietnam and PMI Mangolia\, PMI Guayas\,  PMI Bajio and PMI Ivory Coast \nThis event is open to everyone\, regardless of your experience or expertise in project management. We encourage you to join us for this exciting and informative discussion. \nWait no more:\nRegister to be part of this event on\nDate: Aug 16\, 2024\nTime: 19:30 – 21:30 IST ( GMT + 5:30) \nRegister QR code or https://tinyurl.com/bdhstbxc \n \n  \nWhen you register the time will be shown according to your local time zone. \nThis event is open to both members and non-members. \nAhmed Ashfaq \nAnchor – Chapter Xchange program \nVP – PMI Mumbai Chapter
URL:https://pmivietnamchapter.com/event/online-su-kien-pmi-chapter-xchange-lan-thu-7-nam-2024/
CATEGORIES:Event
ATTACH;FMTTYPE=image/jpeg:https://pmivietnamchapter.com/wp-content/uploads/2024/08/PMIXchange_7th.jpg
END:VEVENT
END:VCALENDAR