BEGIN:VCALENDAR
VERSION:2.0
PRODID:-//PMI Vietnam Chapter - ECPv6.15.20//NONSGML v1.0//EN
CALSCALE:GREGORIAN
METHOD:PUBLISH
X-ORIGINAL-URL:https://pmivietnamchapter.com
X-WR-CALDESC:Sự kiện cho PMI Vietnam Chapter
REFRESH-INTERVAL;VALUE=DURATION:PT1H
X-Robots-Tag:noindex
X-PUBLISHED-TTL:PT1H
BEGIN:VTIMEZONE
TZID:Asia/Krasnoyarsk
BEGIN:STANDARD
TZOFFSETFROM:+0700
TZOFFSETTO:+0700
TZNAME:+07
DTSTART:20240101T000000
END:STANDARD
END:VTIMEZONE
BEGIN:VEVENT
DTSTART;TZID=Asia/Krasnoyarsk:20250409T200000
DTEND;TZID=Asia/Krasnoyarsk:20250409T210000
DTSTAMP:20260421T155610
CREATED:20250407T092633Z
LAST-MODIFIED:20250407T093155Z
UID:11776-1744228800-1744232400@pmivietnamchapter.com
SUMMARY:🚀 PMP JOURNEY: PROJECT RISK MANAGEMENT - WHY IT IS IMPORTANT 🌟
DESCRIPTION:English Version\n🚀 PMP JOURNEY: PROJECT RISK MANAGEMENT – WHY IT IS IMPORTANT🌟\n🚀 Master risk management to ensure project success with PMI Education Team! \nJoin our critical session on “Project Risk Management – Why It Is Important” to learn how to identify\, analyze\, and mitigate risks effectively in your projects. \n📅 Date: Wednesday\, April 09\, 2025\n⏰ Time: 8:00 PM – 9:00 PM (GMT+7)\n🔗 Zoom Link: https://zoom.us/j/91886343714?pwd=faGabkWrQRb8YwN7Vvl5w0eYibghhP.1\n🌏 Language: Vietnamese (slides in English)\n🆔 Meeting ID: 918 8634 3714 | 🔒 Passcode: 269193 \n🎯 Key Takeaways:\n✅ Understand the critical role of risk management in project success\n✅ Learn techniques to identify and assess project risks\n✅ Discover effective risk response strategies (avoid\, transfer\, mitigate\, accept)\n✅ Explore real-world case studies of risk management\n✅ Earn 1 PDU (0.5 Technical & 0.5 Leadership) \n📢 Register now to become a risk management expert! \n#PMI #PMIVietnam #RiskManagement #ProjectManagement #PMP #ProjectSuccess \nTiếng Việt Version\n🚀 HÀNH TRÌNH PMP: QUẢN LÝ RỦI RO DỰ ÁN – TẠI SAO NÓ QUAN TRỌNG 🌟\n🚀 Làm chủ quản lý rủi ro để đảm bảo thành công dự án cùng PMI! \nTham gia buổi chia sẻ quan trọng về “Quản lý rủi ro dự án – Tại sao nó quan trọng” để học cách nhận diện\, phân tích và kiểm soát rủi ro hiệu quả. \n📅 Ngày: Thứ Tư\, 09/04/2025\n⏰ Giờ: 20:00 – 21:00 (GMT+7)\n🔗 Link Zoom: https://zoom.us/j/91886343714?pwd=faGabkWrQRb8YwN7Vvl5w0eYibghhP.1\n🆔 ID Phòng: 918 8634 3714 | 🔒 Mật khẩu: 269193 \n🎯 Lợi ích tham gia:\n✅ Hiểu vai trò quan trọng của quản lý rủi ro\n✅ Học cách nhận diện và đánh giá rủi ro dự án\n✅ Khám phá các chiến lược ứng phó rủi ro hiệu quả\n✅ Học từ case study thực tế về quản lý rủi ro\n✅ Nhận 1 PDU (0.5 Kỹ thuật & 0.5 Lãnh đạo) \n📢 Đăng ký ngay để trở thành chuyên gia quản lý rủi ro! \n#PMI #PMIVietnam #QuảnLýRủiRo #QuảnLýDựÁn #PMP #ThànhCôngDựÁn
URL:https://pmivietnamchapter.com/event/%f0%9f%9a%80-pmp-journey-project-risk-management-why-it-is-important-%f0%9f%8c%9f/
ORGANIZER;CN="PMI Vietnam Event Team":MAILTO:event@pmichaptervietnam.com
END:VEVENT
BEGIN:VEVENT
DTSTART;TZID=Asia/Krasnoyarsk:20250412T140000
DTEND;TZID=Asia/Krasnoyarsk:20250412T160000
DTSTAMP:20260421T155610
CREATED:20250404T074507Z
LAST-MODIFIED:20250406T042510Z
UID:11759-1744466400-1744473600@pmivietnamchapter.com
SUMMARY:After Hours Program: "The Friendship Formula"  on 12-Apr at 14h00 to 16h00
DESCRIPTION: English below Thông báo! Hãy tham gia cùng chúng tôi vào: \n   Ngày: April 12\, 2025   Thời Gian: 2:00 PM – 4:00 PM (GMT+7)   Địa Điểm: C’Art Cafe 116 P. Mai Anh Tuấn\, Chợ Dừa\, Đống Đa\, Hà Nội 10000   Ngôn Ngữ: Song ngữ Việt-Anh   Topics: Hội thảo “Công thức tình bạn” và Social Mixer của chúng tôi! Khám phá cách “Được yêu thích một cách dễ dàng” bằng cách thực hiện “Công thức tình bạn”. \n🧾Lịch trình sự kiện🧾 \n• Phần 1: Giới thiệu & Diễn văn khai mạc (10 phút) – Mở đầu chương trình và tạo không khí thân thiện. \n• Phần 2 & 3: Các Yếu Tố I–IV (mỗi phần 35 phút) – Cùng tìm hiểu và thực hành những chiến lược hiệu quả để xây dựng mối quan hệ sâu sắc. \n• Phần 4: Kế hoạch hành động & Q&A (10 phút) – Lập chiến lược cá nhân để ứng dụng những gì bạn học được. \n• Phần 5: Coaching\, thảo luận & giao lưu (30 phút) – Cơ hội trao đổi cởi mở và kết nối với những người tham dự khác. \n \n Chúng tôi đang tập hợp mọi người tại C’Art Cafe ở Hà Nội cho một sự kiện tập trung vào việc xây dựng các mối quan hệ và mở rộng mạng lưới cá nhân và chuyên nghiệp của bạn. \n [Liên kết để đăng ký: https://forms.gle/16Nez38EDxfFQQX77]#PMIVietnam #Workshop #SocialMixer #FriendshipFormula #Networking Announcement! Join us:  Date: April 12\, 2025  Time: 2:00 PM – 4:00 PM (GMT+7)  Venue: C’Art Cafe 116 P. Mai Anh Tuấn\, Chợ Dừa\, Đống Đa\, Hà Nội 10000  Language: Vietnamese and English  Topics:  “The Friendship Formula”—Based on “The Like Switch\,” this session aims to teach participants how to connect with others authentically through meet-and-greets. \n🧾Agenda🧾 \n• Phase 1: Intro & Keynote (10 mins) – Setting the stage and breaking the ice! \n• Phase 2 & 3: Elements I-IV (35 mins each) – Learn and implement practical strategies for fostering meaningful relationships. \n• Phase 4: Action Plan & Q&A (10 mins) – Develop a personalized strategy for applying your knowledge. \n• Phase 5: Coaching & Discussion & Social Mixer (30 mins) – Open discussion and social mixer to connect with fellow participants. \n We are bringing people together at C’Art Cafe in Hanoi for an event focused on building relationships and expanding your personal and professional network. [Link to Registration: https://forms.gle/16Nez38EDxfFQQX77] \n \n  \n  \n 
URL:https://pmivietnamchapter.com/event/after-hours-program-the-friendship-formula-on-12-apr-at-14h00-to-16h00/
LOCATION:C’Art Cafe 116 P. Mai Anh Tuấn\, Chợ Dừa\, Đống Đa\, Hà Nội 10000
END:VEVENT
BEGIN:VEVENT
DTSTART;TZID=Asia/Krasnoyarsk:20250416T200000
DTEND;TZID=Asia/Krasnoyarsk:20250416T210000
DTSTAMP:20260421T155610
CREATED:20250414T014616Z
LAST-MODIFIED:20250414T014616Z
UID:11855-1744833600-1744837200@pmivietnamchapter.com
SUMMARY:🚀 PMP JOURNEY - SESSION 5: PROJECT RESOURCE MANAGEMENT - ECONOMICS\, LEADERSHIP & STRATEGY 🌟
DESCRIPTION:English Version\n🚀 PMP JOURNEY – SESSION 5: PROJECT RESOURCE MANAGEMENT – ECONOMICS\, LEADERSHIP & STRATEGY 🌟\n🚀 Master the art of resource optimization with PMI Education Team! \nJoin our interdisciplinary Session 5 where we explore “Project Resource Management through the Lens of Economics\, Leadership\, and Strategy” to elevate your resource allocation skills. \n📅 Date: Wednesday\, April 16\, 2025\n⏰ Time: 8:00 PM – 9:00 PM (GMT+7)\n🔗 Join via Google Meet: https://meet.google.com/nxj-vpup-kxq\n🌏 Language: Vietnamese (slides in English) \n🎯 Key Takeaways:\n✅ Economic principles for optimal resource allocation\n✅ Leadership techniques for team motivation and productivity\n✅ Strategic approaches to balance cost\, time and quality\n✅ Cross-industry case studies of successful resource management\n✅ Earn 1 PDU (0.5 Technical & 0.5 Leadership) \n📢 Register now to transform your resource management approach! \n#PMI #PMIVietnam #ResourceManagement #ProjectEconomics #StrategicLeadership #PMP \nTiếng Việt Version\n🚀 HÀNH TRÌNH PMP – PHẦN 5: QUẢN LÝ TÀI NGUYÊN DỰ ÁN – GÓC NHÌN KINH TẾ\, LÃNH ĐẠO & CHIẾN LƯỢC 🌟\n🚀 Làm chủ nghệ thuật tối ưu hóa tài nguyên cùng PMI! \nTham gia Phần 5 trong chuỗi chương trình khi chúng ta khám phá “Quản lý Tài nguyên Dự án qua Góc nhìn Kinh tế\, Lãnh đạo và Chiến lược”. \n📅 Ngày: Thứ Tư\, 16/04/2025\n⏰ Giờ: 20:00 – 21:00 (GMT+7)\n🔗 Tham gia qua Google Meet: https://meet.google.com/nxj-vpup-kxq \n🎯 Lợi ích tham gia:\n✅ Nguyên tắc kinh tế cho phân bổ tài nguyên tối ưu\n✅ Kỹ thuật lãnh đạo để tăng động lực nhóm\n✅ Cách tiếp cận chiến lược cân bằng chi phí-thời gian-chất lượng\n✅ Case study đa ngành về quản lý tài nguyên thành công\n✅ Nhận 1 PDU (0.5 Kỹ thuật & 0.5 Lãnh đạo) \n📢 Đăng ký ngay để nâng tầm quản lý tài nguyên! \n#PMI #PMIVietnam #QuảnLýTàiNguyên #KinhTếDựÁn #LãnhĐạoChiếnLược #PMP
URL:https://pmivietnamchapter.com/event/%f0%9f%9a%80-pmp-journey-session-5-project-resource-management-economics-leadership-strategy-%f0%9f%8c%9f/
ORGANIZER;CN="PMI Vietnam Event Team":MAILTO:event@pmichaptervietnam.com
END:VEVENT
BEGIN:VEVENT
DTSTART;TZID=Asia/Krasnoyarsk:20250423T200000
DTEND;TZID=Asia/Krasnoyarsk:20250423T210000
DTSTAMP:20260421T155610
CREATED:20250421T141225Z
LAST-MODIFIED:20250422T054006Z
UID:11912-1745438400-1745442000@pmivietnamchapter.com
SUMMARY:🚀 PMP JOURNEY - SESSION 6: PROJECT COMMUNICATIONS MANAGEMENT - THE KEY TO STAKEHOLDER ALIGNMENT 🌟
DESCRIPTION:🚀 PMP JOURNEY – SESSION 6: PROJECT COMMUNICATIONS MANAGEMENT – THE KEY TO STAKEHOLDER ALIGNMENT 🌟\n🚀 Master strategic communication for project success with PMI Education Team!\nJoin our Session 6 as we decode “Project Communications Management” – the critical bridge between your team and stakeholders. \n📅 Date: Wednesday\, April 23\, 2025\n⏰ Time: 8:00 PM – 9:00 PM (GMT+7)\n🔗 Join via Google Meet: https://meet.google.com/nxj-vpup-kxq\n🌏 Language: Vietnamese (slides in English) \n🎯 Key Takeaways:\n✅ 80/20 rule of project communication: What to share\, when\, and with whom\n✅ Tools to create impactful communication matrices (RACI meets Agile)\n✅ Crisis communication strategies for high-stakes projects\n✅ Cultural intelligence in global team communications\n✅ Earn 1 PDU (0.5 Power Skills & 0.5 Ways of Working) \n📢 Reserve your spot – Turn communication into your competitive advantage! \n#PMI #PMIVietnam #CommManagement #StakeholderEngagement #PMP \nTiếng Việt Version\n🚀 HÀNH TRÌNH PMP – PHẦN 6: QUẢN LÝ TRUYỀN THÔNG DỰ ÁN – CHÌA KHÓA ĐỒNG BỘ CÁC BÊN LIÊN QUAN 🌟\n🚀 Làm chủ giao tiếp chiến lược để dẫn dắt dự án thành công cùng PMI! \nTham gia Phần 6 khi chúng ta phân tích “Quản lý Truyền thông Dự án” – yếu tố then chốt kết nối đội nhóm và stakeholders. \n📅 Ngày: Thứ Tư\, 23/04/2025\n⏰ Giờ: 20:00 – 21:00 (GMT+7)\n🔗 Tham gia qua Google Meet: https://meet.google.com/nxj-vpup-kxq \n🎯 Giá trị nổi bật:\n✅ Nguyên tắc 80/20 trong truyền thông dự án\n✅ Xây dựng ma trận truyền thông thông minh (kết hợp RACI & Agile)\n✅ Xử lý khủng hoảng truyền thông cho dự án quan trọng\n✅ Giao tiếp đa văn hóa trong team toàn cầu\n✅ Nhận 1 PDU (0.5 Kỹ năng Mềm & 0.5 Phương pháp Làm việc) \n📢 Đăng ký ngay – Biến truyền thông thành lợi thế cạnh tranh! \n#PMI #PMIVietnam #QuảnLýTruyềnThông #QuảnLýStakeholder #PMP \n 
URL:https://pmivietnamchapter.com/event/%f0%9f%9a%80-pmp-journey-session-6-project-communications-management-the-key-to-stakeholder-alignment-%f0%9f%8c%9f/
LOCATION:https://meet.google.com/nxj-vpup-kxq
END:VEVENT
END:VCALENDAR