BEGIN:VCALENDAR
VERSION:2.0
PRODID:-//PMI Vietnam Chapter - ECPv6.15.20//NONSGML v1.0//EN
CALSCALE:GREGORIAN
METHOD:PUBLISH
X-WR-CALNAME:PMI Vietnam Chapter
X-ORIGINAL-URL:https://pmivietnamchapter.com
X-WR-CALDESC:Sự kiện cho PMI Vietnam Chapter
REFRESH-INTERVAL;VALUE=DURATION:PT1H
X-Robots-Tag:noindex
X-PUBLISHED-TTL:PT1H
BEGIN:VTIMEZONE
TZID:Asia/Krasnoyarsk
BEGIN:STANDARD
TZOFFSETFROM:+0700
TZOFFSETTO:+0700
TZNAME:+07
DTSTART:20250101T000000
END:STANDARD
END:VTIMEZONE
BEGIN:VEVENT
DTSTART;TZID=Asia/Krasnoyarsk:20260425T170000
DTEND;TZID=Asia/Krasnoyarsk:20260425T220000
DTSTAMP:20260422T154950
CREATED:20260416T045251Z
LAST-MODIFIED:20260416T045425Z
UID:12719-1777136400-1777154400@pmivietnamchapter.com
SUMMARY:“ĐÀ NẴNG-MÙA HÈ XANH 2026 CÙNG PMI VIỆT NAM”: Day 1 – THE NIGHT OF CONNECTION
DESCRIPTION:“ĐÀ NẴNG-MÙA HÈ XANH 2026 CÙNG PMI VIỆT NAM”\n🔗 Full event details:https://pmivietnamchapter.com/common/da-nang-mua-he-xanh-2026-cung-pmi-vietnam/ \n\nDay 1 – THE NIGHT OF CONNECTION\n📍 REWHAHA Central – Local Craft Beer House16 Thái Phiên\, Hải Châu\, Đà Nẵng (*) \n🕔 Time: 17:00 – 22:00📅 Date: April 25\, 2026 \n \n\nAbout the Session\nKick off the “ĐÀ NẴNG-MÙA HÈ XANH 2026 CÙNG PMI VIỆT NAM” event series with an engaging evening of connection and networking. \nTHE NIGHT OF CONNECTION is designed to bring together project management professionals\, PMI members\, and the broader community in a relaxed and vibrant atmosphere. \n⭐ Special Highlight:The event will feature the participation of 1 PMI Vietnam Chapter President and 5 Chapter Leaders\, offering a valuable opportunity to connect directly with key representatives of the PMI Vietnam community. \nThis is a great opportunity to: \n\n🤝 Build meaningful connections with peers and industry professionals\n🌐 Expand your professional network in Central Vietnam\n💬 Engage directly with PMI Vietnam leadership\n🍻 Enjoy a casual evening at a unique local venue\n\n\nParticipation Notes\n\n💸 Share fee applies after the party (self-paid based on actual consumption)\n🎁 Free gift for participants\n📚 Earn 2 PDUs (Professional Development Units)\n\n\nRegistration\n🎟️ Register as Participant:https://app.smartsheet.com/b/form/019d4734927d71eead896e03acf56171 \n\n(*) The venue is subject to change. Any updates will be communicated to registered participants.
URL:https://pmivietnamchapter.com/event/da-nang-mua-he-xanh-2026-cung-pmi-viet-nam-day-1-the-night-of-connection/
END:VEVENT
BEGIN:VEVENT
DTSTART;TZID=Asia/Krasnoyarsk:20260426T090000
DTEND;TZID=Asia/Krasnoyarsk:20260426T120000
DTSTAMP:20260422T154950
CREATED:20260416T054217Z
LAST-MODIFIED:20260416T054531Z
UID:12723-1777194000-1777204800@pmivietnamchapter.com
SUMMARY:“ĐÀ NẴNG-MÙA HÈ XANH 2026 CÙNG PMI VIỆT NAM”: Day 2 – Professional Project Management amid Market\, Customer & Tech Changes
DESCRIPTION:“ĐÀ NẴNG-MÙA HÈ XANH 2026 CÙNG PMI VIỆT NAM”\n🔗 Full event details:https://pmivietnamchapter.com/common/da-nang-mua-he-xanh-2026-cung-pmi-vietnam/ \n\nDay 2 – Professional Project Management amid Market\, Customer & Tech Changes\n📍 TMORE 24/7191 Nguyễn Hoàng\, Nam Dương\, Hải Châu\, Đà Nẵng \n🕘 Time: 09:00 – 12:00 \n📅 Date: April 26\, 2026 \n \n\nSpeaker\n👤 Khúc Mạnh Thảo \n\nPMO Leader and Branch Manager | Luvina JSC\nPMI Instructor | Atoha Institute\n\n\nAbout the Session\nAs the kick-off event of PMI Vietnam Chapter in Đà Nẵng\, this workshop is designed to introduce the value of PMI and professional project management to the local community. \nIn today’s fast-changing environment—where markets shift rapidly\, customer expectations continue to rise\, and technology evolves constantly—project management is becoming more critical than ever for both individuals and organizations. \nThis session will provide practical insights and a strategic perspective on how project management professionals can adapt and thrive in this dynamic context. \n\nKey Discussion Points\n\nWhy PMI Chapter should be present in Đà Nẵng at this moment\nHow market\, customer\, and technology changes are reshaping project management practices\nWhy professional project management is increasingly important for individuals and organizations\nThe value that PMI and PMI Vietnam Chapter bring to the local community\nFuture direction for developing the PMI community in Đà Nẵng\n\n\nAgenda\n\nPart 1: Check-in & Welcome\nPart 2: Opening Remarks from PMI Vietnam Chapter\nPart 3: Insight Sharing\nPart 4: Main Workshop Content\nPart 5: PMI and Community Value\nPart 6: Q&A\nPart 7: Closing\nPart 8: Networking\n\n\nParticipation Notes\n\n🎁 Free gift for participants\n📚 Earn PDUs (Professional Development Units)\n🤝 Opportunity to connect with PMI Vietnam community\n\n\nRegistration\n🎟️ Register as Participant:https://app.smartsheet.com/b/form/019d4734927d71eead896e03acf56171
URL:https://pmivietnamchapter.com/event/da-nang-mua-he-xanh-2026-cung-pmi-viet-nam-day-2-professional-project-management-amid-market-customer-tech-changes/
END:VEVENT
END:VCALENDAR